BEGIN:VCALENDAR
VERSION:2.0
PRODID:-//wp-events-plugin.com//7.2.3.1//EN
TZID:America/Chicago
X-WR-TIMEZONE:America/Chicago
BEGIN:VEVENT
UID:3@centuryfarmwinery.com
DTSTART:20260417T194500Z
DTEND:20260422T224500Z
DTSTAMP:20260307T161801Z
URL:https://centuryfarmwinery.com/events/vineyard-sunset-gathering/
SUMMARY:Vineyard Sunset Gathering
DESCRIPTION:Join us for a beautiful sunset evening at the vineyard. Relax w
 ith a glass of wine\, enjoy the scenic views\, and experience the peaceful
  charm of Century Farm Winery.
ATTACH;FMTTYPE=image/jpeg:https://centuryfarmwinery.com/wp-content/uploads
 /2026/03/2149726434.jpg
END:VEVENT
END:VCALENDAR