BEGIN:VCALENDAR
VERSION:2.0
PRODID:-//wp-events-plugin.com//7.2.3.1//EN
TZID:America/Chicago
X-WR-TIMEZONE:America/Chicago
BEGIN:VEVENT
UID:2@centuryfarmwinery.com
DTSTART:20260326T094500Z
DTEND:20260331T180000Z
DTSTAMP:20260307T161504Z
URL:https://centuryfarmwinery.com/events/spring-wine-tasting-experience/
SUMMARY:Spring Wine Tasting Experience
DESCRIPTION:Celebrate the season with a guided wine tasting featuring a sel
 ection of our handcrafted wines. Guests will have the opportunity to sampl
 e different varieties while learning about our winemaking process.
ATTACH;FMTTYPE=image/jpeg:https://centuryfarmwinery.com/wp-content/uploads
 /2026/03/15706.jpg
END:VEVENT
END:VCALENDAR