BEGIN:VCALENDAR
VERSION:2.0
PRODID:-//wp-events-plugin.com//7.2.3.1//EN
TZID:America/Chicago
X-WR-TIMEZONE:America/Chicago
BEGIN:VEVENT
UID:1@centuryfarmwinery.com
DTSTART:20260307T090000Z
DTEND:20260320T170000Z
DTSTAMP:20260307T155948Z
URL:https://centuryfarmwinery.com/events/live-music-wine-night/
SUMMARY:Live Music & Wine Night
DESCRIPTION:Enjoy a relaxing evening at Century Farm Winery with live music
 \, handcrafted wines\, and a welcoming vineyard atmosphere. Bring your fri
 ends and unwind while listening to local musicians and enjoying your favor
 ite wines.
ATTACH;FMTTYPE=image/jpeg:https://centuryfarmwinery.com/wp-content/uploads
 /2026/03/2148016753.jpg
END:VEVENT
END:VCALENDAR