BEGIN:VCALENDAR
VERSION:2.0
PRODID:-//wp-events-plugin.com//7.2.3.1//EN
TZID:America/Chicago
X-WR-TIMEZONE:America/Chicago
BEGIN:VEVENT
UID:4@centuryfarmwinery.com
DTSTART:20260329T080000Z
DTEND:20260331T210000Z
DTSTAMP:20260307T162212Z
URL:https://centuryfarmwinery.com/events/harvest-celebration-festival/
SUMMARY:Harvest Celebration Festival
DESCRIPTION:Celebrate the harvest season with live music\, wine tastings\, 
 local food vendors\, and vineyard activities for friends and family.
ATTACH;FMTTYPE=image/jpeg:https://centuryfarmwinery.com/wp-content/uploads
 /2026/03/6809.jpg
END:VEVENT
END:VCALENDAR